BEGIN:VCALENDAR
VERSION:2.0
PRODID:-//BJSB e.V. - ECPv6.15.20//NONSGML v1.0//EN
CALSCALE:GREGORIAN
METHOD:PUBLISH
X-ORIGINAL-URL:https://bjsb.de/en
X-WR-CALDESC:Events for BJSB e.V.
REFRESH-INTERVAL;VALUE=DURATION:PT1H
X-Robots-Tag:noindex
X-PUBLISHED-TTL:PT1H
BEGIN:VTIMEZONE
TZID:Europe/Berlin
BEGIN:DAYLIGHT
TZOFFSETFROM:+0100
TZOFFSETTO:+0200
TZNAME:CEST
DTSTART:20250330T010000
END:DAYLIGHT
BEGIN:STANDARD
TZOFFSETFROM:+0200
TZOFFSETTO:+0100
TZNAME:CET
DTSTART:20251026T010000
END:STANDARD
BEGIN:DAYLIGHT
TZOFFSETFROM:+0100
TZOFFSETTO:+0200
TZNAME:CEST
DTSTART:20260329T010000
END:DAYLIGHT
BEGIN:STANDARD
TZOFFSETFROM:+0200
TZOFFSETTO:+0100
TZNAME:CET
DTSTART:20261025T010000
END:STANDARD
BEGIN:DAYLIGHT
TZOFFSETFROM:+0100
TZOFFSETTO:+0200
TZNAME:CEST
DTSTART:20270328T010000
END:DAYLIGHT
BEGIN:STANDARD
TZOFFSETFROM:+0200
TZOFFSETTO:+0100
TZNAME:CET
DTSTART:20271031T010000
END:STANDARD
END:VTIMEZONE
BEGIN:VEVENT
DTSTART;VALUE=DATE:20260115
DTEND;VALUE=DATE:20260119
DTSTAMP:20260421T173542
CREATED:20260106T020000Z
LAST-MODIFIED:20260106T020000Z
UID:100-1768435200-1768780799@bjsb.de
SUMMARY:THE SHÄBBATON
DESCRIPTION:Mit größter Freude veranstaltet der BJSB e.V. das GRÖßTE EVENT für junge jüdische Erwachsene Süddeutschlands 🦁✡️!\nDa wir UNBEDINGT möchten\, dass auch DU dabei bist\, um mit uns so richtig fett zu feiern\, kannst Du Dich bereits ab sofort anmelden🎉!\nWie jedes Jahr erwarten Dich: ergreifende Shiurim\, spannende Workshops\, erholsame Ausflüge\, Live-Musik und das wiedersehen Deiner alten (und neuen) jüdischer Freunde! Die Highlights des Wochenende sind selbstverständlich Unser gemeinsamer Shabbat und eine Party in einer exklusiven Location ✨🥳\nIn der Teilnahmegebühr ist die Unterbringung in einem modernen Hotel 🏨\, sowie die Verpflegung 🥗 (Vollpension Do. Abend &#8211; So. Morgen // außer Fr. Mittag) und vieles mehr enthalten. \nTeilnahmegebühr:\nStudent mit Übernachtung = 70€\nStudent ohne Übernachtung = 20€\nYoung Professional mit\nÜbernachtung = 110€\nYoung Professional ohne Übernachtung = 60€\nPlätze sind begrenzt! \nBei Fragen sind wir jederzeit für Dich erreichbar &#8211; Wir sehen uns schon bald in Karlsruhe 🤗 \nAnmeldungslink: https://forms.gle/Ngru5VVu86sVwSbS6
URL:https://bjsb.de/en/event/the-shaebbaton/
END:VEVENT
END:VCALENDAR